BEGIN:VCALENDAR
VERSION:2.0
PRODID:-//eventon.com NONSGML v1.0//EN
CALSCALE:GREGORIAN
METHOD:PUBLISH
BEGIN:VEVENT
UID:69e636e311695
DTSTAMP:20260420T142331Z
DTSTART:20220627T130000Z
DTEND:20220701T200000Z
LOCATION:
SUMMARY:Escape Room
DESCRIPTION:Bring 4 – 8 of your smartest friends and kick off summer with
  an escape room: solve a series of puzzles to find the pirate treasure. Reg
 istration is required.  Stop by the circulation desk or call the library a
 t 607-797-4816 to register.\nhttps://www.yhpl.org/events/escape-room/
URL:https://www.yhpl.org/events/escape-room/
END:VEVENT
END:VCALENDAR